BEGIN:VCALENDAR
VERSION:2.0
PRODID:-//Sams in de Tanker in Noord - ECPv6.15.18//NONSGML v1.0//EN
CALSCALE:GREGORIAN
METHOD:PUBLISH
X-ORIGINAL-URL:https://detanker.nl
X-WR-CALDESC:Evenementen voor Sams in de Tanker in Noord
REFRESH-INTERVAL;VALUE=DURATION:PT1H
X-Robots-Tag:noindex
X-PUBLISHED-TTL:PT1H
BEGIN:VTIMEZONE
TZID:Europe/Amsterdam
BEGIN:DAYLIGHT
TZOFFSETFROM:+0100
TZOFFSETTO:+0200
TZNAME:CEST
DTSTART:20240331T010000
END:DAYLIGHT
BEGIN:STANDARD
TZOFFSETFROM:+0200
TZOFFSETTO:+0100
TZNAME:CET
DTSTART:20241027T010000
END:STANDARD
BEGIN:DAYLIGHT
TZOFFSETFROM:+0100
TZOFFSETTO:+0200
TZNAME:CEST
DTSTART:20250330T010000
END:DAYLIGHT
BEGIN:STANDARD
TZOFFSETFROM:+0200
TZOFFSETTO:+0100
TZNAME:CET
DTSTART:20251026T010000
END:STANDARD
BEGIN:DAYLIGHT
TZOFFSETFROM:+0100
TZOFFSETTO:+0200
TZNAME:CEST
DTSTART:20260329T010000
END:DAYLIGHT
BEGIN:STANDARD
TZOFFSETFROM:+0200
TZOFFSETTO:+0100
TZNAME:CET
DTSTART:20261025T010000
END:STANDARD
END:VTIMEZONE
BEGIN:VEVENT
DTSTART;TZID=Europe/Amsterdam:20250217T193000
DTEND;TZID=Europe/Amsterdam:20250217T230000
DTSTAMP:20260421T130735
CREATED:20250204T111603Z
LAST-MODIFIED:20250204T111850Z
UID:13247-1739820600-1739833200@detanker.nl
SUMMARY:ALL STRINGS NIGHT
DESCRIPTION:‘All Strings Night’ edities brengen per aflevering 18 verschillende vrij en akoestisch improviserende snaristen en\nvocalisten  uit alle generaties bijeen. \nZij spelen dan in 3 sets: 6 x trio\, 3 x sextet en een tutti set waarin per definitie eenmalige klankfantasieën het gehoor \nzullen verbazen en verwonderen.\n\nvanaf 5 euro (wat je kan betalen )
URL:https://detanker.nl/evenement/all-strings-night-2/
LOCATION:de Tanker in Noord\, Nw Leeuwarderweg 15\, Amsterdam
CATEGORIES:2025,aankomend event,concert,Cultuurvitrine,Diy,Improv
ATTACH;FMTTYPE=image/jpeg:https://detanker.nl/wp-content/uploads/2025/02/GridArt_20241120_172306751-scaled.jpg
END:VEVENT
BEGIN:VEVENT
DTSTART;TZID=Europe/Amsterdam:20250219T200000
DTEND;TZID=Europe/Amsterdam:20250219T233000
DTSTAMP:20260421T130735
CREATED:20250204T102040Z
LAST-MODIFIED:20250204T102040Z
UID:13221-1739995200-1740007800@detanker.nl
SUMMARY:IMPROVISED ETC I CTE DESIVORPMI
DESCRIPTION:Everything could go wrong\, but it could also go OH SO RIGHT! An evening celebrating the art of momentarily creation.\n\nJonathan Reisin & Marcus Wärnheim\n\nTwo saxophonists meet as a duo for the first time\, exploring pitch and timbre through breath and vibrations. \nModèles Volatils \nThe acoustic free improvising strings duo deliver and interact with sounds resonating as far as possible from idiomatic domains\, working in an atmosphere that could be described as an in-progress-pre-esthetics-without-plan approach. \nHenk Zwerver – guitar\nRaoul van der Weide – double bass etc \nFlore Muuse will perform (or dance) ‘This is me remembering I have a spine’\nDamage: 8€ in the door\nDoors: 20.00\nStart: 20.30
URL:https://detanker.nl/evenement/improvised-etc-i-cte-desivorpmi/
LOCATION:de Tanker in Noord\, Nw Leeuwarderweg 15\, Amsterdam
CATEGORIES:2025,aankomend event,concert,Cultuurvitrine,Diy,Improv
ATTACH;FMTTYPE=image/jpeg:https://detanker.nl/wp-content/uploads/2025/02/3EE6990B-7774-4067-8D2E-9015D67BCF81.jpeg
END:VEVENT
END:VCALENDAR