BEGIN:VCALENDAR
VERSION:2.0
PRODID:-//Sams in de Tanker in Noord - ECPv6.15.18//NONSGML v1.0//EN
CALSCALE:GREGORIAN
METHOD:PUBLISH
X-ORIGINAL-URL:https://detanker.nl
X-WR-CALDESC:Evenementen voor Sams in de Tanker in Noord
REFRESH-INTERVAL;VALUE=DURATION:PT1H
X-Robots-Tag:noindex
X-PUBLISHED-TTL:PT1H
BEGIN:VTIMEZONE
TZID:Europe/Amsterdam
BEGIN:DAYLIGHT
TZOFFSETFROM:+0100
TZOFFSETTO:+0200
TZNAME:CEST
DTSTART:20230326T010000
END:DAYLIGHT
BEGIN:STANDARD
TZOFFSETFROM:+0200
TZOFFSETTO:+0100
TZNAME:CET
DTSTART:20231029T010000
END:STANDARD
BEGIN:DAYLIGHT
TZOFFSETFROM:+0100
TZOFFSETTO:+0200
TZNAME:CEST
DTSTART:20240331T010000
END:DAYLIGHT
BEGIN:STANDARD
TZOFFSETFROM:+0200
TZOFFSETTO:+0100
TZNAME:CET
DTSTART:20241027T010000
END:STANDARD
BEGIN:DAYLIGHT
TZOFFSETFROM:+0100
TZOFFSETTO:+0200
TZNAME:CEST
DTSTART:20250330T010000
END:DAYLIGHT
BEGIN:STANDARD
TZOFFSETFROM:+0200
TZOFFSETTO:+0100
TZNAME:CET
DTSTART:20251026T010000
END:STANDARD
END:VTIMEZONE
BEGIN:VEVENT
DTSTART;TZID=Europe/Amsterdam:20241216T203000
DTEND;TZID=Europe/Amsterdam:20241216T230000
DTSTAMP:20260422T000604
CREATED:20241120T163055Z
LAST-MODIFIED:20241120T182000Z
UID:12880-1734381000-1734390000@detanker.nl
SUMMARY:ALL STRINGS NIGHT
DESCRIPTION:‘All Strings Night’ edities brengen per aflevering 18 verschillende vrij en akoestisch improviserende snaristen en\nvocalisten  uit alle generaties bijeen. \nZij spelen dan in 3 sets: 6 x trio\, 3 x sextet en een tutti set waarin per definitie eenmalige klankfantasieën het gehoor \nzullen verbazen en verwonderen.\n\nTICKETS VERKRIJGBAAR BIJ DE DEUR
URL:https://detanker.nl/evenement/all-srtings-night/
LOCATION:de Tanker in Noord\, Nw Leeuwarderweg 15\, Amsterdam
CATEGORIES:2024,aankomend event,concert,Cultuurvitrine,Diy,Improv
ATTACH;FMTTYPE=image/jpeg:https://detanker.nl/wp-content/uploads/2024/11/8EC40997-3C1A-440E-95BB-2A2D98A0C4B0_1_201_a-scaled.jpeg
END:VEVENT
END:VCALENDAR