BEGIN:VCALENDAR
VERSION:2.0
PRODID:-//Sams in de Tanker in Noord - ECPv6.15.18//NONSGML v1.0//EN
CALSCALE:GREGORIAN
METHOD:PUBLISH
X-ORIGINAL-URL:https://detanker.nl
X-WR-CALDESC:Evenementen voor Sams in de Tanker in Noord
REFRESH-INTERVAL;VALUE=DURATION:PT1H
X-Robots-Tag:noindex
X-PUBLISHED-TTL:PT1H
BEGIN:VTIMEZONE
TZID:Europe/Amsterdam
BEGIN:DAYLIGHT
TZOFFSETFROM:+0100
TZOFFSETTO:+0200
TZNAME:CEST
DTSTART:20240331T010000
END:DAYLIGHT
BEGIN:STANDARD
TZOFFSETFROM:+0200
TZOFFSETTO:+0100
TZNAME:CET
DTSTART:20241027T010000
END:STANDARD
BEGIN:DAYLIGHT
TZOFFSETFROM:+0100
TZOFFSETTO:+0200
TZNAME:CEST
DTSTART:20250330T010000
END:DAYLIGHT
BEGIN:STANDARD
TZOFFSETFROM:+0200
TZOFFSETTO:+0100
TZNAME:CET
DTSTART:20251026T010000
END:STANDARD
BEGIN:DAYLIGHT
TZOFFSETFROM:+0100
TZOFFSETTO:+0200
TZNAME:CEST
DTSTART:20260329T010000
END:DAYLIGHT
BEGIN:STANDARD
TZOFFSETFROM:+0200
TZOFFSETTO:+0100
TZNAME:CET
DTSTART:20261025T010000
END:STANDARD
END:VTIMEZONE
BEGIN:VEVENT
DTSTART;TZID=Europe/Amsterdam:20250530T190000
DTEND;TZID=Europe/Amsterdam:20250530T210000
DTSTAMP:20260424T083944
CREATED:20250523T172155Z
LAST-MODIFIED:20250527T160831Z
UID:13702-1748631600-1748638800@detanker.nl
SUMMARY:Bedenk een nieuwe skatebaan!
DESCRIPTION:Jij bepaalt de nieuwe skateplekbij de Tanker!\n\nBen jij vaak te vinden op het baantje bij de Tanker? Dan wil je dit niet missen. Op vrijdag 30 mei kun je meepraten over het ontwerp van een gloednieuw skatepark. Samen met Michael Groenewegen – de designer die 11 jaar geleden ook al meewerkte aan het huidige parkje – gaan we kijken hoe we er weer iets fris\, uitdagends en typisch Noords van kunnen maken.\n\nWaar en wanneer?\n\nDatum: Vrijdag 30 mei\n\nTijd: 19:00 – 21:00\n\nLocatie: De Tanker in Noord\n\nJouw input = next level park\nMichael bouwt skateparken over de hele wereld\, van Amsterdam tot Barcelona. Maar elke plek is uniek\, dus hij luistert het liefst naar de locals: jullie dus. Hoe wil jij skaten? Wat mis je nu? Grind je graag\, of liever flowen langs toffe obstakels? Jouw ideeën maken het verschil.\n\nMichael: “Het oude parkje is toe aan vernieuwing. Maar ik ga niks zomaar invullen – ik wil horen wat jullie belangrijk vinden. Alleen zo maken we een park dat écht werkt.”\n\ncheck:\n\nkomt weer op dezelfde plek\n\nFormaat: 20 bij 20 meter\n\nVoor skaters\, inliners & riders van elk level\n\nJouw input bepaalt het ontwerp\n\n\nLoop FF naar binnen op 30 mei in de Tanker. Geen aanmelding nodig. Heb je nu al ideeën of kun je er niet bij zijn? Mail ze dan naar: noorderpark@amsterdam.nl.\n\nWe bouwen sick samen!
URL:https://detanker.nl/evenement/bedenk-een-nieuwe-skatebaan/
LOCATION:de Tanker in Noord\, Nw Leeuwarderweg 15\, Amsterdam
CATEGORIES:2025,aankomend event,Cultuurvitrine,Diy
ATTACH;FMTTYPE=image/jpeg:https://detanker.nl/wp-content/uploads/2025/05/GridArt_20250523_190842921.jpg
END:VEVENT
END:VCALENDAR