BEGIN:VCALENDAR
VERSION:2.0
PRODID:-//Sams in de Tanker in Noord - ECPv6.15.18//NONSGML v1.0//EN
CALSCALE:GREGORIAN
METHOD:PUBLISH
X-ORIGINAL-URL:https://detanker.nl
X-WR-CALDESC:Evenementen voor Sams in de Tanker in Noord
REFRESH-INTERVAL;VALUE=DURATION:PT1H
X-Robots-Tag:noindex
X-PUBLISHED-TTL:PT1H
BEGIN:VTIMEZONE
TZID:Europe/Amsterdam
BEGIN:DAYLIGHT
TZOFFSETFROM:+0100
TZOFFSETTO:+0200
TZNAME:CEST
DTSTART:20240331T010000
END:DAYLIGHT
BEGIN:STANDARD
TZOFFSETFROM:+0200
TZOFFSETTO:+0100
TZNAME:CET
DTSTART:20241027T010000
END:STANDARD
BEGIN:DAYLIGHT
TZOFFSETFROM:+0100
TZOFFSETTO:+0200
TZNAME:CEST
DTSTART:20250330T010000
END:DAYLIGHT
BEGIN:STANDARD
TZOFFSETFROM:+0200
TZOFFSETTO:+0100
TZNAME:CET
DTSTART:20251026T010000
END:STANDARD
BEGIN:DAYLIGHT
TZOFFSETFROM:+0100
TZOFFSETTO:+0200
TZNAME:CEST
DTSTART:20260329T010000
END:DAYLIGHT
BEGIN:STANDARD
TZOFFSETFROM:+0200
TZOFFSETTO:+0100
TZNAME:CET
DTSTART:20261025T010000
END:STANDARD
END:VTIMEZONE
BEGIN:VEVENT
DTSTART;TZID=Europe/Amsterdam:20250307T200000
DTEND;TZID=Europe/Amsterdam:20250307T233000
DTSTAMP:20260424T163809
CREATED:20250204T104250Z
LAST-MODIFIED:20250204T104332Z
UID:13226-1741377600-1741390200@detanker.nl
SUMMARY:Vinkenspreeuw en Milan Mes
DESCRIPTION:  \nOp 7 maart slaan Vinkenspreeuw en Milan Mes de handen in een en zullen zij spiksplinter nieuw materiaal ten gehore brengen in de Tanker in Noord in Amsterdam. Het belooft een enerverende en inspirerende avonsd te worden\, dansbare beats\, folkloristisch getetter en vervreemde poezie.\nVinkenspreeuw zal op 7 maart de muzikale aftrap verzorgen. Vinkenspreeuw is een ritueel dier. Zijn lokroep bestaat uit dansbare electonics\, drums en vreemde poëzie. Sla je vleugels uit en vlieg.\nDaarna is het de beurt aan Milan Mes. Milan Mes is trompettist\, producer en zanger die Gypsy Rave maakt\, speelt en draait. Oftwel\, Milan Mes is een echte Gypsy Raver. Een Gypsy Raver met een missie: de hedendaagse elektronische volksmuziek verrijken met een unieke combinatie van krachtige ravebeats\, folkloristische melodieën en de onstuimige energie van Balkan-blaasmuziek. Op 7 maart presenteert hij zijn nieuwe single De Achtertuin\, ingebed in een uiterst dansbare live-set.\n\nStart : 20:00 uur\n\n\nticketlink:\nhttps://hipsy.nl/event/102040-vinkenspreeuw-en-milan-mes
URL:https://detanker.nl/evenement/13226/
LOCATION:de Tanker in Noord\, Nw Leeuwarderweg 15\, Amsterdam
CATEGORIES:2025,aankomend event,concert,Cultuurvitrine,Diy
ATTACH;FMTTYPE=image/jpeg:https://detanker.nl/wp-content/uploads/2025/02/65BBD4FC-7F98-47C5-8142-D814BD0472D1.jpeg
END:VEVENT
END:VCALENDAR