BEGIN:VCALENDAR
VERSION:2.0
PRODID:-//Sams in de Tanker in Noord - ECPv6.15.18//NONSGML v1.0//EN
CALSCALE:GREGORIAN
METHOD:PUBLISH
X-ORIGINAL-URL:https://detanker.nl
X-WR-CALDESC:Evenementen voor Sams in de Tanker in Noord
REFRESH-INTERVAL;VALUE=DURATION:PT1H
X-Robots-Tag:noindex
X-PUBLISHED-TTL:PT1H
BEGIN:VTIMEZONE
TZID:Europe/Amsterdam
BEGIN:DAYLIGHT
TZOFFSETFROM:+0100
TZOFFSETTO:+0200
TZNAME:CEST
DTSTART:20230326T010000
END:DAYLIGHT
BEGIN:STANDARD
TZOFFSETFROM:+0200
TZOFFSETTO:+0100
TZNAME:CET
DTSTART:20231029T010000
END:STANDARD
BEGIN:DAYLIGHT
TZOFFSETFROM:+0100
TZOFFSETTO:+0200
TZNAME:CEST
DTSTART:20240331T010000
END:DAYLIGHT
BEGIN:STANDARD
TZOFFSETFROM:+0200
TZOFFSETTO:+0100
TZNAME:CET
DTSTART:20241027T010000
END:STANDARD
BEGIN:DAYLIGHT
TZOFFSETFROM:+0100
TZOFFSETTO:+0200
TZNAME:CEST
DTSTART:20250330T010000
END:DAYLIGHT
BEGIN:STANDARD
TZOFFSETFROM:+0200
TZOFFSETTO:+0100
TZNAME:CET
DTSTART:20251026T010000
END:STANDARD
END:VTIMEZONE
BEGIN:VEVENT
DTSTART;TZID=Europe/Amsterdam:20241207T201500
DTEND;TZID=Europe/Amsterdam:20241207T233000
DTSTAMP:20260425T172918
CREATED:20241127T125904Z
LAST-MODIFIED:20241204T200554Z
UID:12926-1733602500-1733614200@detanker.nl
SUMMARY:Project Wildeman
DESCRIPTION:Project Wildeman maakt nieuwe muzikale rituelen. Vanuit trance-ervaring\, experiment en improvisatie. Op speelse wijze onderzoeken we de vele (on)denkbare dwarsverbanden tussen onszelf\, technologie en al het leven op deze wonderlijke planeet. In de Tanker zal Project Wildeman een muzikale bloemlezing geven van haar geïmproviseerde en transcendentale reizen door de jaren heen. Verwacht een muzikale reis waarin de wildemannen het publiek onttrekken uit de dagelijkse sleur en tijdelijk zal brengen naar diepere lagen van het bewustzijn.\n\nStart 20:15\n\nticket link :\n\n\nhttps://hipsy.nl/event/88002-project-wildeman-afscheidsconcert\n\n\nTicketprijs is 10 euro(bij de deur)
URL:https://detanker.nl/evenement/project-wildeman/
LOCATION:de Tanker in Noord\, Nw Leeuwarderweg 15\, Amsterdam
CATEGORIES:2024,aankomend event,concert,Cultuurvitrine,Diy
ATTACH;FMTTYPE=image/png:https://detanker.nl/wp-content/uploads/2024/11/F9DB1E09-2A67-4F64-8EA4-07AC1BDBF40B.png
END:VEVENT
END:VCALENDAR