BEGIN:VCALENDAR
VERSION:2.0
PRODID:-//Sams in de Tanker in Noord - ECPv6.15.18//NONSGML v1.0//EN
CALSCALE:GREGORIAN
METHOD:PUBLISH
X-ORIGINAL-URL:https://detanker.nl
X-WR-CALDESC:Evenementen voor Sams in de Tanker in Noord
REFRESH-INTERVAL;VALUE=DURATION:PT1H
X-Robots-Tag:noindex
X-PUBLISHED-TTL:PT1H
BEGIN:VTIMEZONE
TZID:Europe/Amsterdam
BEGIN:DAYLIGHT
TZOFFSETFROM:+0100
TZOFFSETTO:+0200
TZNAME:CEST
DTSTART:20240331T010000
END:DAYLIGHT
BEGIN:STANDARD
TZOFFSETFROM:+0200
TZOFFSETTO:+0100
TZNAME:CET
DTSTART:20241027T010000
END:STANDARD
BEGIN:DAYLIGHT
TZOFFSETFROM:+0100
TZOFFSETTO:+0200
TZNAME:CEST
DTSTART:20250330T010000
END:DAYLIGHT
BEGIN:STANDARD
TZOFFSETFROM:+0200
TZOFFSETTO:+0100
TZNAME:CET
DTSTART:20251026T010000
END:STANDARD
BEGIN:DAYLIGHT
TZOFFSETFROM:+0100
TZOFFSETTO:+0200
TZNAME:CEST
DTSTART:20260329T010000
END:DAYLIGHT
BEGIN:STANDARD
TZOFFSETFROM:+0200
TZOFFSETTO:+0100
TZNAME:CET
DTSTART:20261025T010000
END:STANDARD
END:VTIMEZONE
BEGIN:VEVENT
DTSTART;TZID=Europe/Amsterdam:20250602T190000
DTEND;TZID=Europe/Amsterdam:20250602T230000
DTSTAMP:20260424T071227
CREATED:20250519T123134Z
LAST-MODIFIED:20250519T123134Z
UID:13695-1748890800-1748905200@detanker.nl
SUMMARY:ImproJam
DESCRIPTION:  \n  \nVera Morais (voice) \nGustavo Obligado (alto sax) \nSzymon Pimpon Gaziorek(drums)
URL:https://detanker.nl/evenement/improjam/
LOCATION:de Tanker in Noord\, Nw Leeuwarderweg 15\, Amsterdam
CATEGORIES:2025,aankomend event,concert,Cultuurvitrine,Diy,Improv
ATTACH;FMTTYPE=image/jpeg:https://detanker.nl/wp-content/uploads/2025/05/EE91674C-085E-4465-87B8-57BDD7DE9358.jpeg
END:VEVENT
BEGIN:VEVENT
DTSTART;TZID=Europe/Amsterdam:20250605T180000
DTEND;TZID=Europe/Amsterdam:20250605T230000
DTSTAMP:20260424T071227
CREATED:20250519T072415Z
LAST-MODIFIED:20250519T072415Z
UID:13691-1749146400-1749164400@detanker.nl
SUMMARY:Fundraiser: Zero Happy Campers and Gates of Kiev for PHRC
DESCRIPTION:There will be 2 bands (playing times 8pm and 9pm).\n\n\nZero Happy Campers – psych ambient punk rock from The Hague\nwww.zerohappycampers.com\n\nGates of Kiev – prog psych rock from Amsterdam\nhttps://www.instagram.com/_gatesofkiev_/\n\nPHRC\nwww.palestinianhumanitarianresponse.com\n\nTickets\nhttps://www.eventbrite.com/e/1368710412689?aff=oddtdtcreator
URL:https://detanker.nl/evenement/fundraiser-zero-happy-campers-and-gates-of-kiev-for-phrc/
LOCATION:de Tanker in Noord\, Nw Leeuwarderweg 15\, Amsterdam
CATEGORIES:2025,aankomend event,concert,Cultuurvitrine,Diy
ATTACH;FMTTYPE=image/png:https://detanker.nl/wp-content/uploads/2025/05/F18A9503-44C6-493F-9452-9488063E6C10.png
END:VEVENT
BEGIN:VEVENT
DTSTART;TZID=Europe/Amsterdam:20250606T170000
DTEND;TZID=Europe/Amsterdam:20250606T230000
DTSTAMP:20260424T071227
CREATED:20250512T131226Z
LAST-MODIFIED:20250512T131226Z
UID:13681-1749229200-1749250800@detanker.nl
SUMMARY:NACHTNEVEL VERBOND
DESCRIPTION:NACHTNEVEL VERBOND \n6 juni 17:00 –  23:00 \nEntree op donatie \n  \nOnderstroom (modular ambient)https://www.youtube.com/@onderstroom\nOnderstroom\, where sound and visuals merge into a world of ambient\, drone\, soundscapes\, and experimental music. Based in the heart of Rotterdam\, I explore the boundaries between noise and silence\, structure and chaos. Using a Eurorack synthesizer\, field recordings\, found sounds\, vintage cassettes\, and carefully crafted samples\, I create dreamy and elusive sonic landscapes.\nEndfest (cosmos set)\nhttps://endfest.bandcamp.com/\nNeerwaarts (ambient)\nhttps://neerwaarts.bandcamp.com/\nManica (dark ambient)\nManica is een dark ambient- en vrije improvisatieproject dat in 2008 is opgericht door Lennart Wiltens als een solo-initiatief. Het project is uitgegroeid tot een collectief van muzikanten\, waaronder Sandra Tenwolde (vocalen)\, Esther Ton (gitaar)\, Mathé Sluijter (synthesizers\, percussie)\, Laurens Bijl (cello)\, Radbouth (synthesizers\, gitaar) en Evert Bal (trompet\, synthesizers).\nDe muziek van Manica kenmerkt zich door de combinatie van organische instrumenten en synthesizers. In de studio werken ze vanuit momentopnames\, wat leidt tot gelaagde\, atmosferische geluidslandschappen. Live-optredens zijn gericht op vrije improvisatie\, met een sterke nadruk op de interactie tussen de muzikanten. Deze aanpak biedt de ruimte voor spontane creativiteit en de exploratie van verschillende muzikale richtingen.\nDoor de jaren heen heeft Manica zijn geluid verder ontwikkeld\, waarbij de muzikale visie en experimentatie centraal staan. Het collectief blijft voortdurend streven naar nieuwe geluiden en expressiemogelijkheden binnen hun werk.\n\nhttps://linktr.ee/manica_ambient\nEksterlab (ambient)\nLivestream during event: https://nachtnevelverbond.ismyradio.com/\n  \nhttps://linktr.ee/nachtnevelverbondnnvb
URL:https://detanker.nl/evenement/nachtnevel-verbond/
LOCATION:de Tanker in Noord\, Nw Leeuwarderweg 15\, Amsterdam
CATEGORIES:2025,aankomend event,concert,Cultuurvitrine,Diy
ATTACH;FMTTYPE=image/png:https://detanker.nl/wp-content/uploads/2025/05/5E544CD9-723C-4ED0-98E5-FC6DAC8E973C.png
END:VEVENT
BEGIN:VEVENT
DTSTART;TZID=Europe/Amsterdam:20250613T200000
DTEND;TZID=Europe/Amsterdam:20250613T230000
DTSTAMP:20260424T071227
CREATED:20250512T104357Z
LAST-MODIFIED:20250512T104357Z
UID:13678-1749844800-1749855600@detanker.nl
SUMMARY:EL GIGO
DESCRIPTION:Date and Time: 13-06-2025 – Doors: 20:00 \nTicket Price and Link (if applicable): https://eventix.shop/8cuv9j9r \nShort Description/Bio:  \n\nEveryone’s got their poison. But what if that poison comes in the form of loud rocking music?? \nGet ready to satisfy those cravings at El Gigo\, on the 13th of June as 3 rocking bands come together for an all out Noisy-Shit-Only set. \nFeaturing shoegaze space-shifters Crashing\, grunge gurus Dani Antal & the Musos\, and the grand comeback of Sixes & Sevens\, you’re gonna get your fix in no time!  📣 \n\n  \nLinks: \nSixes ’n Sevens: https://www.instagram.com/6ixesn7evens/\n \nDani Antal & The Musos: https://www.instagram.com/daniantalmuso/  \nCrashing: https://www.instagram.com/crashingcrashingcrashing/
URL:https://detanker.nl/evenement/el-gigo/
LOCATION:de Tanker in Noord\, Nw Leeuwarderweg 15\, Amsterdam
CATEGORIES:2025,aankomend event,concert,Cultuurvitrine,Diy
ATTACH;FMTTYPE=image/jpeg:https://detanker.nl/wp-content/uploads/2025/05/A4D8F6C1-4E9B-4D55-A78B-83010A80835D-scaled.jpeg
END:VEVENT
BEGIN:VEVENT
DTSTART;TZID=Europe/Amsterdam:20250620T200000
DTEND;TZID=Europe/Amsterdam:20250620T230000
DTSTAMP:20260424T071227
CREATED:20250526T063045Z
LAST-MODIFIED:20250608T161613Z
UID:13712-1750449600-1750460400@detanker.nl
SUMMARY:The Edge of Spring
DESCRIPTION:The Edge of Spring \nhttps://www.facebook.com/events/3587023501593423 \n \nSpring is over\, and we want to celebrate the beginning of the new season with a performance night of improvised music and movement. Celebrating the magic of artistic encounters\, and in a moment of change between seasons\, in sweet anticipation to the longest day of the year. \n \nWith: \nStefania Petroula\, Annarita Ricciardi\, Manuela Lucia Tessi – movement \nMaya Felixbrot – viola\, Maria Luisa Pizzighella – percussion\, Giordano Mor – trombone \nDoors 20:00  Show starts 20:30 \nEntrance € 5-15 (sliding scale)
URL:https://detanker.nl/evenement/the-edge-of-spring/
LOCATION:de Tanker in Noord\, Nw Leeuwarderweg 15\, Amsterdam
CATEGORIES:2025,aankomend event,concert,Cultuurvitrine,Dans event,Diy
ATTACH;FMTTYPE=image/jpeg:https://detanker.nl/wp-content/uploads/2025/05/20-June-@Tanker-EOS.jpg
END:VEVENT
BEGIN:VEVENT
DTSTART;TZID=Europe/Amsterdam:20250629T150000
DTEND;TZID=Europe/Amsterdam:20250629T200000
DTSTAMP:20260424T071227
CREATED:20250620T134841Z
LAST-MODIFIED:20250620T134919Z
UID:13802-1751209200-1751227200@detanker.nl
SUMMARY:Parame Work x Many Voices
DESCRIPTION:Parame Work is back this time playing on the Many Voices 6.2 surround sound system. \n\n\n\nThis is going to be a special sit-down sound bath full with lazy beats and slow bass. \n\n\n\nDoors open: 15h \n\n\n\nEnd: 20h \n\n\n\nFee: €10 \n\n\n\nLine up: \n\n\n\nGLABRA \n\n\n\nDJ MFK \n\n\n\nSNAIlLAWAY \n\n\n\nTAKIMI
URL:https://detanker.nl/evenement/parame-work-x-many-voices/
CATEGORIES:2025,aankomend event,Cultuurvitrine,Diy
END:VEVENT
END:VCALENDAR