BEGIN:VCALENDAR
VERSION:2.0
PRODID:-//Sams in de Tanker in Noord - ECPv6.15.18//NONSGML v1.0//EN
CALSCALE:GREGORIAN
METHOD:PUBLISH
X-ORIGINAL-URL:https://detanker.nl
X-WR-CALDESC:Evenementen voor Sams in de Tanker in Noord
REFRESH-INTERVAL;VALUE=DURATION:PT1H
X-Robots-Tag:noindex
X-PUBLISHED-TTL:PT1H
BEGIN:VTIMEZONE
TZID:Europe/Amsterdam
BEGIN:DAYLIGHT
TZOFFSETFROM:+0100
TZOFFSETTO:+0200
TZNAME:CEST
DTSTART:20240331T010000
END:DAYLIGHT
BEGIN:STANDARD
TZOFFSETFROM:+0200
TZOFFSETTO:+0100
TZNAME:CET
DTSTART:20241027T010000
END:STANDARD
BEGIN:DAYLIGHT
TZOFFSETFROM:+0100
TZOFFSETTO:+0200
TZNAME:CEST
DTSTART:20250330T010000
END:DAYLIGHT
BEGIN:STANDARD
TZOFFSETFROM:+0200
TZOFFSETTO:+0100
TZNAME:CET
DTSTART:20251026T010000
END:STANDARD
BEGIN:DAYLIGHT
TZOFFSETFROM:+0100
TZOFFSETTO:+0200
TZNAME:CEST
DTSTART:20260329T010000
END:DAYLIGHT
BEGIN:STANDARD
TZOFFSETFROM:+0200
TZOFFSETTO:+0100
TZNAME:CET
DTSTART:20261025T010000
END:STANDARD
END:VTIMEZONE
BEGIN:VEVENT
DTSTART;TZID=Europe/Amsterdam:20250502T190000
DTEND;TZID=Europe/Amsterdam:20250502T230000
DTSTAMP:20260424T084743
CREATED:20250423T083837Z
LAST-MODIFIED:20250423T083837Z
UID:13646-1746212400-1746226800@detanker.nl
SUMMARY:Love for Loud : Coltaine / Dunebender
DESCRIPTION:Coltaine / Dunebender\nPostmetal from Germany / Atmospheric heaviness from Amsterdam\n\nDoors 20.15\nBands 20.45\nTickets online or at the door 11\,50\n\nticketlink\nhttps://shop.ikbenaanwezig.nl/tickets/event/coltaine-dunebender
URL:https://detanker.nl/evenement/love-for-loud-coltaine-dunebender/
LOCATION:de Tanker in Noord\, Nw Leeuwarderweg 15\, Amsterdam
CATEGORIES:2025,aankomend event,concert,Cultuurvitrine,Diy,love4loud
ATTACH;FMTTYPE=image/jpeg:https://detanker.nl/wp-content/uploads/2025/04/8D6D6195-1AC5-4904-BE1C-3667327DF0DA-scaled.jpeg
END:VEVENT
BEGIN:VEVENT
DTSTART;TZID=Europe/Amsterdam:20250508T203000
DTEND;TZID=Europe/Amsterdam:20250508T230000
DTSTAMP:20260424T084743
CREATED:20250414T181056Z
LAST-MODIFIED:20250414T181056Z
UID:13631-1746736200-1746745200@detanker.nl
SUMMARY:Roze Tanker Impro. Double Band
DESCRIPTION:Two sets with different groups\, impro\, free jazz. \nDOUBLE BANDJonathan Aardestrup – bassPedro Ivo Ferreira – bassAndrew Moreno – guitarHenk Zwerver – guitarMarcos Baggiani – drumsNasim López Palacios – drumsJoost Buis – tromboneJan Willem van der Ham – baritone saxFelicity Provan – cornet and voiceNico Chientaroli – piano\, synth and voice \nTickets : 5- 12 what you can \nStarts 20:30 \n  \n 
URL:https://detanker.nl/evenement/roze-tanker-impro-double-band/
LOCATION:de Tanker in Noord\, Nw Leeuwarderweg 15\, Amsterdam
CATEGORIES:2025,aankomend event,concert,Cultuurvitrine,Diy,Improv
ATTACH;FMTTYPE=image/jpeg:https://detanker.nl/wp-content/uploads/2025/04/BF9079A1-1379-4877-84FF-F145180176D1.jpeg
END:VEVENT
BEGIN:VEVENT
DTSTART;TZID=Europe/Amsterdam:20250510T130000
DTEND;TZID=Europe/Amsterdam:20250510T180000
DTSTAMP:20260424T084743
CREATED:20250411T141656Z
LAST-MODIFIED:20250505T143711Z
UID:13626-1746882000-1746900000@detanker.nl
SUMMARY:Art Soup
DESCRIPTION:ARTSOUP!\nKijk\, luister\, proef – een culturele middag met smaak!\n\nOf je nu van film houdt\, geïnteresseerd bent in kunst of gewoon een lekker hapje wil komen eten\, ARTSOUP! biedt voor ieder wat wils. Kom op zaterdag 10 mei van 13.30-17.30 langs bij De Roze Tanker voor een middag vol cultuur\, creativiteit en natuurlijk soep!\n\nPROGRAMMA\n13:30: Start\n13:30 – 17:00: Kunstmarkt – kunstenaars presenteren en verkopen hun werk\n14:00 – 15:30: Filmvertoning – Being Herman met filmmaker Oliver Guy-Watkins\n16:00 – 17:00: Live muziek – van WYNNM\n17:30: Einde\n\nLocatie: De Roze Tanker\, Nieuwe Leeuwarderweg 15\nTickets: €10\, incl. bakje soep\n\nMeld je even aan voor dit event via deze link: https://forms.gle/bM8GbjgMktPyg9Fv9\n\n\nKunst en optredens door o.a. Studio Sjaan (@studio.sjaan_)\, Sophia Clara (@bigartbigmind)\, Costas Vermeer (@costas_vermeer)\, Mavien Seçkin (@maviensc)\, Oliver Guy-Watkins (@baabooks)\, Larissa (@larissamartina.tatt) & WYNNM (@imwynnm)\n\n\n\n  \n\n\n\n\n 
URL:https://detanker.nl/evenement/art-soup/
LOCATION:de Tanker in Noord\, Nw Leeuwarderweg 15\, Amsterdam
CATEGORIES:2025,aankomend event,Cultuurvitrine,Diy
ATTACH;FMTTYPE=image/jpeg:https://detanker.nl/wp-content/uploads/2025/04/194EDC68-7855-4BE1-8A6E-41700546A2F4.jpeg
END:VEVENT
BEGIN:VEVENT
DTSTART;TZID=Europe/Amsterdam:20250511T130000
DTEND;TZID=Europe/Amsterdam:20250511T170000
DTSTAMP:20260424T084743
CREATED:20250424T154050Z
LAST-MODIFIED:20250508T085929Z
UID:13650-1746968400-1746982800@detanker.nl
SUMMARY:INGOMA YESINTU / JAMES MCCLURE & JOÃO GUERRA
DESCRIPTION:A SUNDAY AFTERNOON AT DE ROZE TANKER\nPart of Space is the Place supports\n\n15:00 – 17:00 \nLINE-UP\nINGOMA YESINTU \nInês Martínez\, Júlia Cortés Pons\, Jaehyung Choi\, Divakar Nambiath – voice\, Sara Guildolin – synth & voice\, Eber Gonzales – percussion\, Dane Paris – drums\, Zenzele Mthembu-Salter – double bass & voice\n\nJAMES MCCLURE & JOÃO GUERRA \nAfter their magical debut at the SITP x Cinetol Spring Fest and before heading to Music Meeting Festival in Nijmegen\, here’s another chance to catch Ingoma Yesintu live–the band and vocal choir led by South African\, Amsterdam-based artist Zenzele Mthembu-Salter. \nMusic Meeting Festival takes place 7–9 june and cuts across styles\, genres and cultures\, worldwide–offering a stage to artists all over the globe for over 35 year often with new projects or in special compositions. \n\nSupport comes from the amazing musicians – South-African trumpet player James McClure & the Portugese drummer João Guerra\, who also play together in James McClure’s band Sofaya\, just as Zenzele does.\n\n\nTimetable:\n15:15–15:45 | James McClure &JOÃO GUERRA\n16:00–17:00 | Ingoma Yesintu \n  \n\n\nTickets :at door : Sliding scale vanaf 5 euro
URL:https://detanker.nl/evenement/ingoma-yesintu-james-mcclure-duo/
LOCATION:de Tanker in Noord\, Nw Leeuwarderweg 15\, Amsterdam
CATEGORIES:2025,aankomend event,concert,Cultuurvitrine,Diy
ATTACH;FMTTYPE=image/jpeg:https://detanker.nl/wp-content/uploads/2025/04/Ingoma-Yesintu-3-scaled.jpg
END:VEVENT
BEGIN:VEVENT
DTSTART;TZID=Europe/Amsterdam:20250517T150000
DTEND;TZID=Europe/Amsterdam:20250517T233000
DTSTAMP:20260424T084743
CREATED:20250424T155541Z
LAST-MODIFIED:20250424T155541Z
UID:13653-1747494000-1747524600@detanker.nl
SUMMARY: TROPICAL APOCALYP2E BY FIELD NOTES
DESCRIPTION: TROPICAL APOCALYP2E BY FIELD NOTES\n\nTime table 15:00-00:00 \nTicket Price and Link: €12 \nhttps://eventix.shop/bdv3m9xs \nWhat will happen during your event? \nWe celebrate the start of Spring with an exclusive listening party with Loud-E\, king of disco and rare cosmic sounds.
URL:https://detanker.nl/evenement/tropical-apocalyp2e-by-field-notes/
LOCATION:de Tanker in Noord\, Nw Leeuwarderweg 15\, Amsterdam
CATEGORIES:2025,aankomend event,concert,Cultuurvitrine,Dans event,Diy
ATTACH;FMTTYPE=image/png:https://detanker.nl/wp-content/uploads/2025/04/Tropical-Apocalyp2e.png
END:VEVENT
BEGIN:VEVENT
DTSTART;TZID=Europe/Amsterdam:20250519T200000
DTEND;TZID=Europe/Amsterdam:20250519T230000
DTSTAMP:20260424T084743
CREATED:20250429T104041Z
LAST-MODIFIED:20250429T104041Z
UID:13659-1747684800-1747695600@detanker.nl
SUMMARY:Impro Jam
DESCRIPTION:  \nImpro Jam \nOpening group: Bioluminus \ndoors open: 20hr \nEntrances:5-10 Euro
URL:https://detanker.nl/evenement/impro-jam/
LOCATION:de Tanker in Noord\, Nw Leeuwarderweg 15\, Amsterdam
CATEGORIES:2025,aankomend event,concert,Cultuurvitrine,Diy,Improv
ATTACH;FMTTYPE=image/jpeg:https://detanker.nl/wp-content/uploads/2025/04/2B76BED7-0F28-447E-B84A-F4BD32D8BC25.jpeg
END:VEVENT
BEGIN:VEVENT
DTSTART;TZID=Europe/Amsterdam:20250522T200000
DTEND;TZID=Europe/Amsterdam:20250522T233000
DTSTAMP:20260424T084743
CREATED:20250325T113027Z
LAST-MODIFIED:20250512T131407Z
UID:13606-1747944000-1747956600@detanker.nl
SUMMARY:OPEN EAR. LISTENING SESSIONS FOR CREATIVE AUDIO
DESCRIPTION:  \nOPEN EAR. LISTENING SESSIONS FOR CREATIVE AUDIO \nThursday 22 May\, 20:30 [start time 20.30\, estimated end time 23.30] \nTicket Price: Free (donation based) \n  \n“MIND TRAVEL”: Where can sound waves transport you? This listening session will be dedicated to mind travel through sound and other journeys in space and time. \n  \nGuest curators: Renate Zentschnig & Michiel Huijsman (Soundtrackcity) \n  \nOPEN EAR is an evening for creative audio\, radio art and experimental recordings. Close your eyes\, open your ears and join us to listen together to a cherry-picked selection of short audio pieces. \n 
URL:https://detanker.nl/evenement/open-ear-listening-sessions-for-creative-audio/
LOCATION:de Tanker in Noord\, Nw Leeuwarderweg 15\, Amsterdam
CATEGORIES:2025,aankomend event,Cultuurvitrine,Diy
ATTACH;FMTTYPE=image/jpeg:https://detanker.nl/wp-content/uploads/2025/03/96D21323-0818-475C-BEC7-9C03ABB2D6F4.jpeg
END:VEVENT
BEGIN:VEVENT
DTSTART;TZID=Europe/Amsterdam:20250523T200000
DTEND;TZID=Europe/Amsterdam:20250523T233000
DTSTAMP:20260424T084743
CREATED:20250411T125649Z
LAST-MODIFIED:20250411T125649Z
UID:13623-1748030400-1748043000@detanker.nl
SUMMARY:Modern Classical Sounds of Recorder\, Violin & Cello with Electronics. Juho Myllylä & Roshko Brothers Concert.
DESCRIPTION:NeoClassical / ModernClassical / Ambient \nThis will be a special concert in Amsterdam. Master flutist Juho Myllylä will join the brothers on stage. Together\, they will improvise and immerse themselves in an ambient world shaped by modular synths. \nRoshko Brothers invite the audience to a special concert promoting their latest album\, River of Time — a musical journey where early music meets live improvisation\, creating a space where tradition flows seamlessly into modern expression. Drawing inspiration from the wild landscapes and Slavic melancholy of their hometown\, Suwałki (Poland) the Roshko Brothers weave classical roots\, cinematic soundscapes\, and subtle electronic textures into their compositions. The result is a fusion of violin\, cello\, and electronics\, where melody and experiment\, structure and spontaneity coexist in constant dialogue. \nTickets :10 Euro or more\, \nStarts : 20:30 \nListen our music: https://spoti.fi/3WTh7Y1 \nWebsite: \nhttps://linktr.ee/RoshkoBrothers \nhttps://juhomyllyla.com/
URL:https://detanker.nl/evenement/modern-classical-sounds-of-recorder-violin-cello-with-electronics-juho-myllyla-roshko-brothers-concert/
LOCATION:de Tanker in Noord\, Nw Leeuwarderweg 15\, Amsterdam
CATEGORIES:2025,aankomend event,concert,Cultuurvitrine,Diy
ATTACH;FMTTYPE=image/png:https://detanker.nl/wp-content/uploads/2025/04/9F882CAE-4A52-4A11-8733-41C9B0F82BB2.png
END:VEVENT
BEGIN:VEVENT
DTSTART;TZID=Europe/Amsterdam:20250530T190000
DTEND;TZID=Europe/Amsterdam:20250530T210000
DTSTAMP:20260424T084743
CREATED:20250523T172155Z
LAST-MODIFIED:20250527T160831Z
UID:13702-1748631600-1748638800@detanker.nl
SUMMARY:Bedenk een nieuwe skatebaan!
DESCRIPTION:Jij bepaalt de nieuwe skateplekbij de Tanker!\n\nBen jij vaak te vinden op het baantje bij de Tanker? Dan wil je dit niet missen. Op vrijdag 30 mei kun je meepraten over het ontwerp van een gloednieuw skatepark. Samen met Michael Groenewegen – de designer die 11 jaar geleden ook al meewerkte aan het huidige parkje – gaan we kijken hoe we er weer iets fris\, uitdagends en typisch Noords van kunnen maken.\n\nWaar en wanneer?\n\nDatum: Vrijdag 30 mei\n\nTijd: 19:00 – 21:00\n\nLocatie: De Tanker in Noord\n\nJouw input = next level park\nMichael bouwt skateparken over de hele wereld\, van Amsterdam tot Barcelona. Maar elke plek is uniek\, dus hij luistert het liefst naar de locals: jullie dus. Hoe wil jij skaten? Wat mis je nu? Grind je graag\, of liever flowen langs toffe obstakels? Jouw ideeën maken het verschil.\n\nMichael: “Het oude parkje is toe aan vernieuwing. Maar ik ga niks zomaar invullen – ik wil horen wat jullie belangrijk vinden. Alleen zo maken we een park dat écht werkt.”\n\ncheck:\n\nkomt weer op dezelfde plek\n\nFormaat: 20 bij 20 meter\n\nVoor skaters\, inliners & riders van elk level\n\nJouw input bepaalt het ontwerp\n\n\nLoop FF naar binnen op 30 mei in de Tanker. Geen aanmelding nodig. Heb je nu al ideeën of kun je er niet bij zijn? Mail ze dan naar: noorderpark@amsterdam.nl.\n\nWe bouwen sick samen!
URL:https://detanker.nl/evenement/bedenk-een-nieuwe-skatebaan/
LOCATION:de Tanker in Noord\, Nw Leeuwarderweg 15\, Amsterdam
CATEGORIES:2025,aankomend event,Cultuurvitrine,Diy
ATTACH;FMTTYPE=image/jpeg:https://detanker.nl/wp-content/uploads/2025/05/GridArt_20250523_190842921.jpg
END:VEVENT
BEGIN:VEVENT
DTSTART;TZID=Europe/Amsterdam:20250531T190000
DTEND;TZID=Europe/Amsterdam:20250531T220000
DTSTAMP:20260424T084743
CREATED:20250523T175126Z
LAST-MODIFIED:20250527T180343Z
UID:13710-1748718000-1748728800@detanker.nl
SUMMARY:Expo opening Yuliia Orlova en Al Soré
DESCRIPTION:Yulia Orlova is a self-taught Ukrainian born artist based in Amsterdam. She creates vibrant compositions of interconnected objects and fairytale-like characters. Drawing inspiration from folk and outsider art\, Yuliia makes art intuitively and free of judgement utilising topics from everyday life and her own experiences. She is drawn to whimsical depictions of animals and fairy-tale like characters\, as they offer a sense of playfulness and joy that helps to counterbalance the stress and anxiety of modern existence. \nhttps://www.myweirdart.com/about \nhttps://www.instagram.com/myweirdart_/ \nAl Soré\, full name Alona Sokurenko\, born in 1992 in Ukraine\, is a mixed-media artist and designer currently based in Amsterdam\, Netherlands. Al’s practice is driven by the inner anxieties of living and existence\, and consequently\, the right to be. The process is intuitive\, often embracing randomness to create unexpected results. Nature elements and landscapes are the main subject matter of her paintings. The works often merge various mediums\, creating semi-abstract\, dream-like compositions that invite viewers to contemplate and wander in the ephemeral and the ethereal. \nhttp://al-sore.glitch.me \nhttps://www.instagram.com/al___sore \n\n 
URL:https://detanker.nl/evenement/expo-opening-yuliia-orlova-en-al-sore/
LOCATION:de Tanker in Noord\, Nw Leeuwarderweg 15\, Amsterdam
CATEGORIES:2025,aankomend event,Cultuurvitrine,Diy,expo
ATTACH;FMTTYPE=image/jpeg:https://detanker.nl/wp-content/uploads/2025/05/E6415953-8ADA-4143-AC5E-5A97A9B6382E.jpeg
END:VEVENT
END:VCALENDAR