BEGIN:VCALENDAR
VERSION:2.0
PRODID:-//Sams in de Tanker in Noord - ECPv6.15.18//NONSGML v1.0//EN
CALSCALE:GREGORIAN
METHOD:PUBLISH
X-ORIGINAL-URL:https://detanker.nl
X-WR-CALDESC:Evenementen voor Sams in de Tanker in Noord
REFRESH-INTERVAL;VALUE=DURATION:PT1H
X-Robots-Tag:noindex
X-PUBLISHED-TTL:PT1H
BEGIN:VTIMEZONE
TZID:Europe/Amsterdam
BEGIN:DAYLIGHT
TZOFFSETFROM:+0100
TZOFFSETTO:+0200
TZNAME:CEST
DTSTART:20240331T010000
END:DAYLIGHT
BEGIN:STANDARD
TZOFFSETFROM:+0200
TZOFFSETTO:+0100
TZNAME:CET
DTSTART:20241027T010000
END:STANDARD
BEGIN:DAYLIGHT
TZOFFSETFROM:+0100
TZOFFSETTO:+0200
TZNAME:CEST
DTSTART:20250330T010000
END:DAYLIGHT
BEGIN:STANDARD
TZOFFSETFROM:+0200
TZOFFSETTO:+0100
TZNAME:CET
DTSTART:20251026T010000
END:STANDARD
BEGIN:DAYLIGHT
TZOFFSETFROM:+0100
TZOFFSETTO:+0200
TZNAME:CEST
DTSTART:20260329T010000
END:DAYLIGHT
BEGIN:STANDARD
TZOFFSETFROM:+0200
TZOFFSETTO:+0100
TZNAME:CET
DTSTART:20261025T010000
END:STANDARD
END:VTIMEZONE
BEGIN:VEVENT
DTSTART;TZID=Europe/Amsterdam:20250302T193000
DTEND;TZID=Europe/Amsterdam:20250302T233000
DTSTAMP:20260424T144614
CREATED:20250204T153910Z
LAST-MODIFIED:20250204T153910Z
UID:13313-1740943800-1740958200@detanker.nl
SUMMARY:Love for Loud : The first fire / Elivra / Big Moth
DESCRIPTION:loveforloud concert \n\nTHE FIRST FIRE brings you modern\, emotional rock songs\,driven by the energy of post-hardcore and metalcore.Founded in 2020 as a solo project\, Nils Nitschke aka THE FIRST FIRE is meanwhile accompanied bya four-piece live band\, ready to hit the stages of the world.Offstage\, THE FIRST FIRE has caused many aviral hit on social media\, such as with a mini-cover of the Backstreet Boysclassic “Everybody”.A first album is due to be released in early 2025.\nBigmoth is a metal band rising from the underground scene of Amsterdam. Comprised of four musicians with different cultural backgrounds and with influences ranging from metal and progressive rock to jazz\, electronic music and more. They bring forward a sound that is both powerful and atmospheric\, through unique blend of heavy riffs\, ambient soundscapes\, intricate grooves\, haunting vocals and unusual structures.\nElivra is a four-piece metalcore act from beautiful Berlin\, Germany.The GGoat’ and ‘Anywhere but Here’ to shake up stages with spectacular live performances from 2024 onward.In the lyrics of the upcoming EP “Departures” (announced for June 2024) the band addresses the clash of humanity and the societal framework of a system scarred by capitalism. These very political topics with a personal background are portrayed musically through sing-along parts and violent breakdowns. A joy ride for youngsters and elder(-ly emos). In a live setting\, the band delivers an outstanding sonic experience along with a matching light show and overall energetic stage presence.roup was formed by former members of the bands ‘Near the Abyss’\n\n\nScreaming Emo/ nu metal nightTickets online or at the door 11 euro.Start 19.45Each band plays 45 min.\n\n\nTickets online of aan de deur 11 euro\n\nTicketlink\nhttps://shop.ikbenaanwezig.nl/tickets/event/the-first-firebig-mothelvira
URL:https://detanker.nl/evenement/love-for-loud-the-first-fire-elivra-big-moth/
LOCATION:de Tanker in Noord\, Nw Leeuwarderweg 15\, Amsterdam
CATEGORIES:2025,aankomend event,concert,Cultuurvitrine,Diy,love4loud
ATTACH;FMTTYPE=image/jpeg:https://detanker.nl/wp-content/uploads/2025/02/TFF_Elivra_Amsterdam_Feed-1.jpg
END:VEVENT
BEGIN:VEVENT
DTSTART;TZID=Europe/Amsterdam:20250306T200000
DTEND;TZID=Europe/Amsterdam:20250306T230000
DTSTAMP:20260424T144614
CREATED:20250225T084541Z
LAST-MODIFIED:20250225T084541Z
UID:13490-1741291200-1741302000@detanker.nl
SUMMARY:INNEC
DESCRIPTION:  \nINNEC is an Amsterdam-based quartet exploring new paths in music. With their name based on Wassily Kandinsky’s concept of “Inner Necessity” they state their intention of striving for purity in music while questioning previous conventions and managing to be rooted in the time we are living. \nThe band lays in the frontiers between contemporary music and experimental jazz and is formed by four young musicians coming from Spain\, Slovenia\, Sweden and Denmark. Their approach blends rhythmic and melodically complex compositional frameworks with free improvisation\, allowing the strong individual voices of each musician to melt in unity. A unique sound\, complex like the present day. \nBeatrice Sberna & Aleksander Sever \nBeatrice Sberna (vocals) and Aleksander Sever (piano) are both improvisers with distinct styles and a shared passion for pushing musical boundaries. Their collaboration is an unpredictable journey through sound\, where narrative and timbre take center stage\, shaping spontaneous musical storytelling. \nIn this performance\, lyrics will be created on the spot\, responding to the energy of the space and the dialogue between voice\, piano and audience. Dark humor\, Surreal imagery\, and unexpected textures are completely allowed. \n  \nTwo sets of music.  \nTickets on sliding scale 8-15€.  \nDoors 20:00. \n 
URL:https://detanker.nl/evenement/innec/
LOCATION:de Tanker in Noord\, Nw Leeuwarderweg 15\, Amsterdam
CATEGORIES:2025,aankomend event,concert,Cultuurvitrine,Diy,Improv
ATTACH;FMTTYPE=image/png:https://detanker.nl/wp-content/uploads/2025/02/7CA7D825-DAF2-462F-9AA3-A0CDBFC3D277.png
END:VEVENT
BEGIN:VEVENT
DTSTART;TZID=Europe/Amsterdam:20250307T200000
DTEND;TZID=Europe/Amsterdam:20250307T233000
DTSTAMP:20260424T144614
CREATED:20250204T104250Z
LAST-MODIFIED:20250204T104332Z
UID:13226-1741377600-1741390200@detanker.nl
SUMMARY:Vinkenspreeuw en Milan Mes
DESCRIPTION:  \nOp 7 maart slaan Vinkenspreeuw en Milan Mes de handen in een en zullen zij spiksplinter nieuw materiaal ten gehore brengen in de Tanker in Noord in Amsterdam. Het belooft een enerverende en inspirerende avonsd te worden\, dansbare beats\, folkloristisch getetter en vervreemde poezie.\nVinkenspreeuw zal op 7 maart de muzikale aftrap verzorgen. Vinkenspreeuw is een ritueel dier. Zijn lokroep bestaat uit dansbare electonics\, drums en vreemde poëzie. Sla je vleugels uit en vlieg.\nDaarna is het de beurt aan Milan Mes. Milan Mes is trompettist\, producer en zanger die Gypsy Rave maakt\, speelt en draait. Oftwel\, Milan Mes is een echte Gypsy Raver. Een Gypsy Raver met een missie: de hedendaagse elektronische volksmuziek verrijken met een unieke combinatie van krachtige ravebeats\, folkloristische melodieën en de onstuimige energie van Balkan-blaasmuziek. Op 7 maart presenteert hij zijn nieuwe single De Achtertuin\, ingebed in een uiterst dansbare live-set.\n\nStart : 20:00 uur\n\n\nticketlink:\nhttps://hipsy.nl/event/102040-vinkenspreeuw-en-milan-mes
URL:https://detanker.nl/evenement/13226/
LOCATION:de Tanker in Noord\, Nw Leeuwarderweg 15\, Amsterdam
CATEGORIES:2025,aankomend event,concert,Cultuurvitrine,Diy
ATTACH;FMTTYPE=image/jpeg:https://detanker.nl/wp-content/uploads/2025/02/65BBD4FC-7F98-47C5-8142-D814BD0472D1.jpeg
END:VEVENT
BEGIN:VEVENT
DTSTART;TZID=Europe/Amsterdam:20250320T200000
DTEND;TZID=Europe/Amsterdam:20250320T233000
DTSTAMP:20260424T144614
CREATED:20250116T194438Z
LAST-MODIFIED:20250203T182210Z
UID:13173-1742500800-1742513400@detanker.nl
SUMMARY:ĒTHĘRHEIM
DESCRIPTION:ĒTHĘR Ensemble is a musical and artistic project created by José Ángel Babiano in 2019 and made up of artists who met at Musikene\, Donostia-San Sebastián. ĒTHĘR’s artistic process encompasses interpretation\, transcription and own creation\, based on a delicate and careful mix between improvisation and composition as a creative engine\, which makes his music have a great capacity for adaptation and invention\, thus embracing all kinds of music\, from Classical to Improvisation\, Electronic\, Black Metal\, etc. All this endows ĒTHĘR with a unique sound and artistic identity\, extensive aesthetic versatility and great musical sensitivity. \nShort Description:  From Basque Country\, their own creations travel through improvisation\, contemporary music\, BASQUE MUSIC and black metal” \nLine up: \nJose Ángel Babiano: Composition and Piano\nGarazi Navas Mundiñano: Accordion\nRosa Torres Serra: Clarinet\nPau Torres Serra: Saxophones and electronics\nNasim Hakanai: Drums and electronics\nXico Ribas Tur: Electronics\n\nXabier Peronié Zaldua : Electronics \n\nLinks: \n– Main videoclip:  https://youtu.be/8PL1jxwhGpQ\n– ⁠www.etherensemble.art / @etherensemble\n\n\nDate and Time: 20:00\, 20th March 2025 \nTicket Price: 10€ at the door
URL:https://detanker.nl/evenement/etherheim/
CATEGORIES:2025,aankomend event,concert,Cultuurvitrine,Diy
ATTACH;FMTTYPE=image/jpeg:https://detanker.nl/wp-content/uploads/2025/01/ETHER-ensemble-foto-cuadrada-scaled.jpg
END:VEVENT
BEGIN:VEVENT
DTSTART;TZID=Europe/Amsterdam:20250321T200000
DTEND;TZID=Europe/Amsterdam:20250321T233000
DTSTAMP:20260424T144614
CREATED:20250305T125302Z
LAST-MODIFIED:20250305T151144Z
UID:13548-1742587200-1742599800@detanker.nl
SUMMARY:Counterpoint
DESCRIPTION:  \n  \n“Counterpoint” is a concert series where artists instincts and experimentations meet. A hotbed for un/harmonious interplay of sounds\, visual art\, thoughts and imagination\, space\, time\, presence of body\, and the interaction with other beings. \n—————————————- \nThe self-built instrument von Jiyun Park is crafted through experiments to extract inherent sounds from materials and incorporate a feedback system. This instrument\, blending strings\, metallic elements and electronics\, generates circulation of intermingling sound and embraces internal and external boundaries in a symphony of uncontrolled beauty. Her techniques challenge conventions\, delving into the depths of gesture\, space\, and sonic exploration. The coupling of acoustic and electronic resonances in a performable instrument that has an almost sculpture like quality is intriguing. \nJiyun Park (1990\, KR/DE) is an artist\, based in Cologne and Berlin\, Germany. Having graduated from the Academy of Media Arts in Cologne in 2020\, she continually refines her artistic practice\, focusing on acoustic sound\, movement\, and spatial exploration. Her practices are influenced by the sensory organs of living beings and their unique method to perceive. Her works have been showcased in a range of exhibitions\, concerts\, and festivals\, notably including the lab.30 Media Art Festival 2024 in Augsburg\, the Sound and Computing Music Conference 2023 in Stockholm\, and the Feminale der Musik Festival 2020 at Center for Art and Media in Karlsruhe. \nhttps://jiyunpark.org/self-built-instrument/ \nhttps://on.soundcloud.com/ed5WjX1niyuEC5gdA \n——————————————– \n  \nKryptogen Rundfunk is an experimental sound project started in 2002 in St. Petersburg\, Russia and currently based in Amstelveen\, The Netherlands. The project works with analogue electronics\, radio waves\, electromagnetic interference and found sounds\, creating sophisticated aural images\, often exploring extreme areas of the sonic spectrum. The purpose of these experiments is to temporarily switch off listeners’ rational perception and immerse them into the direct experience of abstract sound. kryptogenrundfunk.com\nhttps://kryptogen.bandcamp.com \n———————————————- \n  \nFra Zedde is an artist based in Hilversum\, the Netherlands. Fra is trained as a guitarist\, drummer\, and sound engineer. His research and interests are centered on the concept of the musical event as a social practice\, using DIY methods for organization and creation. This commitment started with playing and organizing concerts and expanded to various creative elements\, including hacking\, circuit bending\, augmented instruments\, and interactive installations.https://frazedde.eu/ \n—————————————————- \n“schoco mune” is a sound performance project that delivers explosive\, noisy\, chaotic soundscapes with a strong focus on physicality and intuitive action. It started to liberate from all conventional musical approaches and traditional gender norms in 2020. Using sounds as a tool to embody human perception\, pain\, emotion\, feeling\, thoughts\, and imagination\, “schoco mune” explores its cognitive process\, share its experience and sense unheard sounds and voices through its performance. https://schocomune.nl/ \n  \nDoor open 8pm\, and the show starts 8:30pm.\nticket 10 – 15euro (sliding scare)
URL:https://detanker.nl/evenement/counterpoint/
LOCATION:de Tanker in Noord\, Nw Leeuwarderweg 15\, Amsterdam
CATEGORIES:2025,aankomend event,concert,Cultuurvitrine,Diy
ATTACH;FMTTYPE=image/jpeg:https://detanker.nl/wp-content/uploads/2025/03/81672173-B4A9-4B31-A137-9201B8FCDB96.jpeg
END:VEVENT
BEGIN:VEVENT
DTSTART;TZID=Europe/Amsterdam:20250322T160000
DTEND;TZID=Europe/Amsterdam:20250322T233000
DTSTAMP:20260424T144614
CREATED:20250225T202612Z
LAST-MODIFIED:20250225T202753Z
UID:13495-1742659200-1742686200@detanker.nl
SUMMARY:EQUINOX PARADOX
DESCRIPTION:EQUINOX PARADOX\nCultural Mosaic.\n\nA festival dedicated to renewal.\nArtists of all ages join forces to inspire each other and everyone else.\nLive music\, visuals\, theatrics\, DJ’s\, drinks and food\, in a mashup of positive attitude.\nLet your hopes and dreams ignite\, when the length of day is equal to night.\nLook forward to the blooming of trees\, when the axial tilt is at 23.5 degrees.\n\nhttps://www.instagram.com/equinox_paradox_tankernoord/\n\n\nCalypso\nhttps://www.instagram.com/calypso_theband/\nRatjetoe\nhttps://www.instagram.com/ratjetoe_official/\nSleepers awake at night\nhttps://www.instagram.com/sleepersawakeatnight/\nEpilady\nhttps://www.instagram.com/epiladyband/\nDark Jeuk\nDJ Wettechnics\nDrifter TV live\nhttps://www.instagram.com/driftertvplayground/\nDj Fly Agaric 23\nIntergalactic crew\n\nTime:16:00 – 0:00 \nTickets: Donation
URL:https://detanker.nl/evenement/equinox-paradox/
LOCATION:de Tanker in Noord\, Nw Leeuwarderweg 15\, Amsterdam
CATEGORIES:2025,aankomend event,concert,Cultuurvitrine,Diy,Doorlopend programma,Theater
ATTACH;FMTTYPE=image/jpeg:https://detanker.nl/wp-content/uploads/2025/02/0049D5C3-6667-4387-9831-ED95493C920A.jpeg
END:VEVENT
BEGIN:VEVENT
DTSTART;TZID=Europe/Amsterdam:20250327T193000
DTEND;TZID=Europe/Amsterdam:20250327T233000
DTSTAMP:20260424T144614
CREATED:20250205T180104Z
LAST-MODIFIED:20250317T111843Z
UID:13336-1743103800-1743118200@detanker.nl
SUMMARY:Love for Loud : I ira Baccano & Fuzzard
DESCRIPTION:Loveforloud concert \n\nL’ira Del Baccano + support\n\n\ndoomdelic instrumental space prog rock from Italy\n10 euro\n\nticketlink\nhttps://shop.ikbenaanwezig.nl/tickets/event/lira-del-baccano
URL:https://detanker.nl/evenement/13336/
LOCATION:de Tanker in Noord\, Nw Leeuwarderweg 15\, Amsterdam
CATEGORIES:2025,aankomend event,concert,Cultuurvitrine,Diy,love4loud
ATTACH;FMTTYPE=image/jpeg:https://detanker.nl/wp-content/uploads/2025/02/8D92AB7C-0AF2-4FD4-9B85-2C2358345BC6_4_5005_c.jpeg
END:VEVENT
BEGIN:VEVENT
DTSTART;TZID=Europe/Amsterdam:20250330T133000
DTEND;TZID=Europe/Amsterdam:20250330T173000
DTSTAMP:20260424T144614
CREATED:20250317T125816Z
LAST-MODIFIED:20250317T130008Z
UID:13564-1743341400-1743355800@detanker.nl
SUMMARY:Many Voices
DESCRIPTION:MANY VOICES LISTENING GATHERING \n\n\n\n\n\nMany Voices is a platform\, a sound system\, and a record label\, releasing recordings across all realms of subversive music and experimental sound. It is dedicated to amplifying performative works that defy convention and push the boundaries of expression. \n\n\n\n\n\nFor this listening gathering 3 live acts are performing their work on a multi-channel 6.2 surround sound system. \n\n\n  \n\n\nTickets: €8  \n\n\n  \n\n\nPre-sale link:  \n\n\n  \n\n\nhttps://many-voices.weticket.io/many-voices-surround-gathering \n\n\n  \n\n\n  \n\n\nwww.instagram.com/manyvoicesrecords \n\n\n  \n\n\n________________________________________________________________ \n\n\n  \n\n\nLine-up: \n\n\n  \n\n\nTakimi \nFarzané \n\n\nJonathan Castro \n\n\nI // O \n\n\n  \n\n\n  \n\n\nBio’s \n\n\n  \n\n\nTakimi \n\n\n  \n\n\nWith his unreleased album “Distant memories carry what remains”\, Takimi deconstructs club music\, reshaping it into atmospheric ambient textures. He recontextualizes 808 pulses and chest-rattling sub-bass beneath stretched-out granular synth pads\, evocative samples\, and field recordings. Layered with referential vocals\, he reminisces with nostalgia over transcendental club and rave experiences. \n\n\n  \n\n\nhttps://soundcloud.com/takimi/sets/distant-memories-carry-what \n\n\nhttps://www.instagram.com/takimimusic \n\n\n  \n\n\n  \n\n\nFarzané \n\n\n  \n\n\nFarzané (Farzaneh Nouri) is a sound artist\, composer and researcher based in the Netherlands. Her work delves into speculative approaches to sound\, science and technology\, encompassing various diciplines such as electroacoustic music composition\, computer science and linguistics. Farzané composes for interactive installations\, films\, XR and multi-sensory experiences\, and performs live with a focus on free improvisation. Her ongoing practice-based research investigates machine learning methods in the framework of free improvisation. \n\n\n  \n\n\nhttps://farzanehnouri.com/releases/ \n\n\nhttps://www.instagram.com/phernouri/ \n\n\n  \n\n\n  \n\n\n  \n\n\n  \n\n\nJonathan Castro Alejos \n\n\n  \n\n\nRadiance Loops is a sonic archive that explores the echoes of abandoned and post-industrial landscapes. Using location-based field recordings as a foundation\, this collection of loops recontextualizes the raw textures of forgotten spaces\, transforming rusted echoes\, crumbling structures\, and environmental debris into immersive soundscapes. \n\n\n  \n\n\nhttps://confusionunit.bandcamp.com/album/radiance-loops \n\n\nhttps://www.instagram.com/jonacthan/ \n\n\n  \n\n\n  \n\n\nI // O \n\n\n  \n\n\nLorenzo Mirra (I // O) has shaped his present sonic form as a blend of trascnedental pad\, vigorous distortions and dreamy mesmerising atmospheres. \n\n\nHis latest project “Pangea” is a series of live performances where samples and field recordings were collected while exploring nature and remote locations. These recordings are entangled with dense electronic scapes\, connecting placesand materializing memories. \n\n\n  \n\n\nhttps://iomusicworld.bandcamp.com/
URL:https://detanker.nl/evenement/many-voices/
LOCATION:de Tanker in Noord\, Nw Leeuwarderweg 15\, Amsterdam
CATEGORIES:2025,aankomend event,Cultuurvitrine,Diy
ATTACH;FMTTYPE=image/jpeg:https://detanker.nl/wp-content/uploads/2025/03/F780E59C-A4E3-48D0-8E2E-B8773DF079A8.jpeg
END:VEVENT
END:VCALENDAR