BEGIN:VCALENDAR
VERSION:2.0
PRODID:-//Sams in de Tanker in Noord - ECPv6.15.18//NONSGML v1.0//EN
CALSCALE:GREGORIAN
METHOD:PUBLISH
X-ORIGINAL-URL:https://detanker.nl
X-WR-CALDESC:Evenementen voor Sams in de Tanker in Noord
REFRESH-INTERVAL;VALUE=DURATION:PT1H
X-Robots-Tag:noindex
X-PUBLISHED-TTL:PT1H
BEGIN:VTIMEZONE
TZID:Europe/Amsterdam
BEGIN:DAYLIGHT
TZOFFSETFROM:+0100
TZOFFSETTO:+0200
TZNAME:CEST
DTSTART:20240331T010000
END:DAYLIGHT
BEGIN:STANDARD
TZOFFSETFROM:+0200
TZOFFSETTO:+0100
TZNAME:CET
DTSTART:20241027T010000
END:STANDARD
BEGIN:DAYLIGHT
TZOFFSETFROM:+0100
TZOFFSETTO:+0200
TZNAME:CEST
DTSTART:20250330T010000
END:DAYLIGHT
BEGIN:STANDARD
TZOFFSETFROM:+0200
TZOFFSETTO:+0100
TZNAME:CET
DTSTART:20251026T010000
END:STANDARD
BEGIN:DAYLIGHT
TZOFFSETFROM:+0100
TZOFFSETTO:+0200
TZNAME:CEST
DTSTART:20260329T010000
END:DAYLIGHT
BEGIN:STANDARD
TZOFFSETFROM:+0200
TZOFFSETTO:+0100
TZNAME:CET
DTSTART:20261025T010000
END:STANDARD
END:VTIMEZONE
BEGIN:VEVENT
DTSTART;TZID=Europe/Amsterdam:20250608T130000
DTEND;TZID=Europe/Amsterdam:20250608T230000
DTSTAMP:20260425T194028
CREATED:20250519T064058Z
LAST-MODIFIED:20250608T161807Z
UID:13689-1749387600-1749423600@detanker.nl
SUMMARY:CP:Party Nora & Eric
DESCRIPTION:15:00 uur deuren open\n16:00 uur concert met\n\n 	Mary Oliver\, Salvoandrea Lucifora\, Aaron Lumley\n 	Novelo Vago: Vera Morais\, Teresa Costa\, Inês Lopes\n 	Felicity Provan Quartet: Felicity Provan\, Ada Rave\, Harald Austbø\, Michael Vatcher\n\nGeen kado’s\, graag een donatie aan AllKidsShouldPlay.
URL:https://detanker.nl/evenement/cpparty-nora-eric/
LOCATION:de Tanker in Noord\, Nw Leeuwarderweg 15\, Amsterdam
CATEGORIES:2025,aankomend event,concert,Cultuurvitrine
ATTACH;FMTTYPE=image/jpeg:https://detanker.nl/wp-content/uploads/2025/05/AllKidsShouldPlay-scaled.jpg
END:VEVENT
END:VCALENDAR