BEGIN:VCALENDAR
VERSION:2.0
PRODID:-//Sams in de Tanker in Noord - ECPv6.15.18//NONSGML v1.0//EN
CALSCALE:GREGORIAN
METHOD:PUBLISH
X-ORIGINAL-URL:https://detanker.nl
X-WR-CALDESC:Evenementen voor Sams in de Tanker in Noord
REFRESH-INTERVAL;VALUE=DURATION:PT1H
X-Robots-Tag:noindex
X-PUBLISHED-TTL:PT1H
BEGIN:VTIMEZONE
TZID:Europe/Amsterdam
BEGIN:DAYLIGHT
TZOFFSETFROM:+0100
TZOFFSETTO:+0200
TZNAME:CEST
DTSTART:20240331T010000
END:DAYLIGHT
BEGIN:STANDARD
TZOFFSETFROM:+0200
TZOFFSETTO:+0100
TZNAME:CET
DTSTART:20241027T010000
END:STANDARD
BEGIN:DAYLIGHT
TZOFFSETFROM:+0100
TZOFFSETTO:+0200
TZNAME:CEST
DTSTART:20250330T010000
END:DAYLIGHT
BEGIN:STANDARD
TZOFFSETFROM:+0200
TZOFFSETTO:+0100
TZNAME:CET
DTSTART:20251026T010000
END:STANDARD
BEGIN:DAYLIGHT
TZOFFSETFROM:+0100
TZOFFSETTO:+0200
TZNAME:CEST
DTSTART:20260329T010000
END:DAYLIGHT
BEGIN:STANDARD
TZOFFSETFROM:+0200
TZOFFSETTO:+0100
TZNAME:CET
DTSTART:20261025T010000
END:STANDARD
END:VTIMEZONE
BEGIN:VEVENT
DTSTART;TZID=Europe/Amsterdam:20250701T190000
DTEND;TZID=Europe/Amsterdam:20250701T230000
DTSTAMP:20260424T131121
CREATED:20250628T080524Z
LAST-MODIFIED:20250628T080624Z
UID:13815-1751396400-1751410800@detanker.nl
SUMMARY:After party Keti Koti
DESCRIPTION:
URL:https://detanker.nl/evenement/after-party-keti-koti/
CATEGORIES:2025,aankomend event,Cultuurvitrine,Diy
END:VEVENT
BEGIN:VEVENT
DTSTART;TZID=Europe/Amsterdam:20250704T180000
DTEND;TZID=Europe/Amsterdam:20250704T233000
DTSTAMP:20260424T131121
CREATED:20250616T170551Z
LAST-MODIFIED:20250616T171400Z
UID:13792-1751652000-1751671800@detanker.nl
SUMMARY:De crowdfunding: A Bathhouse in Tsarino!
DESCRIPTION:On 4 July\, we’re holding a fundraiser in Amsterdam with an 💥art auction💥 featuring works by artists connected to Tsarino (also accessible online via live stream!).all money will go to finishing the bathhouse in Tsarino: \n\n\n\nhttps://www.gofundme.com/f/a-bathhouse-in-tsarino?utm_campaign=fp_sharesheet&utm_medium=customer&utm_source=copy_link&lang=en_US \n\n\n\nIt’ll be a lively evening with performances (tba)\, live music\, cocktails\, and themed food by Cian-Ti Wang \n\n\n\nWhy? \n\n\n\nOver the past months\, we’ve started constructing a small bathhouse near the outdoor kitchen: a stone building in the traditional local style\, with two hot showers and flushing toilets. The walls are up\, the roof is on\, and the cesspit is in place — but construction has come to a halt due to a lack of funds. \n\n\n\nWe still need to: \n\n\n\n• lay water pipes to connect to the supply network \n\n\n\n• install a 10\,000-litre underground tank (to ensure water during the dry season) \n\n\n\n• fit showers and toilets \n\n\n\n• finish the interior \n\n\n\n• add a solar/gas heating system for the showers \n\n\n\nAll proceeds will go towards completing the bathhouse 💦 \n\n\n\nWith many thanks to the fantastic volunteers helping us organize this\, our host de Tanker in Noord and the generous artwork donations by former artists-in-residence.
URL:https://detanker.nl/evenement/de-crowdfunding-a-bathhouse-in-tsarino/
CATEGORIES:2025,aankomend event,Cultuurvitrine
END:VEVENT
END:VCALENDAR