BEGIN:VCALENDAR
VERSION:2.0
PRODID:-//Sams in de Tanker in Noord - ECPv6.15.18//NONSGML v1.0//EN
CALSCALE:GREGORIAN
METHOD:PUBLISH
X-ORIGINAL-URL:https://detanker.nl
X-WR-CALDESC:Evenementen voor Sams in de Tanker in Noord
REFRESH-INTERVAL;VALUE=DURATION:PT1H
X-Robots-Tag:noindex
X-PUBLISHED-TTL:PT1H
BEGIN:VTIMEZONE
TZID:Europe/Amsterdam
BEGIN:DAYLIGHT
TZOFFSETFROM:+0100
TZOFFSETTO:+0200
TZNAME:CEST
DTSTART:20240331T010000
END:DAYLIGHT
BEGIN:STANDARD
TZOFFSETFROM:+0200
TZOFFSETTO:+0100
TZNAME:CET
DTSTART:20241027T010000
END:STANDARD
BEGIN:DAYLIGHT
TZOFFSETFROM:+0100
TZOFFSETTO:+0200
TZNAME:CEST
DTSTART:20250330T010000
END:DAYLIGHT
BEGIN:STANDARD
TZOFFSETFROM:+0200
TZOFFSETTO:+0100
TZNAME:CET
DTSTART:20251026T010000
END:STANDARD
BEGIN:DAYLIGHT
TZOFFSETFROM:+0100
TZOFFSETTO:+0200
TZNAME:CEST
DTSTART:20260329T010000
END:DAYLIGHT
BEGIN:STANDARD
TZOFFSETFROM:+0200
TZOFFSETTO:+0100
TZNAME:CET
DTSTART:20261025T010000
END:STANDARD
END:VTIMEZONE
BEGIN:VEVENT
DTSTART;TZID=Europe/Amsterdam:20250412T203000
DTEND;TZID=Europe/Amsterdam:20250412T233000
DTSTAMP:20260424T223909
CREATED:20250204T164846Z
LAST-MODIFIED:20250204T180135Z
UID:13318-1744489800-1744500600@detanker.nl
SUMMARY:Love for Loud: An Evening With Knives / Resurrect Tomorrow
DESCRIPTION:LoveforLoud Concert \n\nAn Evening With Knives*Post metal\, Psychedelic Rock\, Stoner/Doom from Eindhoven\nWhere the wall of sound falls down into a sea of tranquility.\nAn Evening With Knives weaves an evocative blend of post-metal\, psychedelic rock\, and doom\, creating a soundscape where towering walls of sound collapse into serene tranquility. This dynamic trio masters the art of making a three-piece band resonate with the power and depth of an orchestra\, delivering dark\, heavy and utterly captivating music.\n\nMusic Video:https://www.youtube.com/watch?v=L7r8mmiyrA4\nSpotify:\nhttps://open.spotify.com/artist/3FAXLvVlUZ34x2nlGr570X.\n\n\n\n\n*Resurrect Tomorrow*Thrash / Heavy metal from Utrecht.\nResurrect Tomorrow creates music with a high level of intensity that retains a similarly high level of broad listening appeal.\nExpect explosive drums\, non-stop riffing and aggressive vocals with a melodic focus that get stuck inside the deepest recesses of your brain.\n\nSpotify: https://open.spotify.com/artist/7Clgj1j7U7GGqRlKe3l5jh\n\nMusic video: https://youtu.be/ANpKTBBEMGA?si=sr9TqwLMwmN8uGgD\n\n\n\n\naanvang 20.30\nTickets online of aan de deur 12\,50\n\nTicketlink\nhttps://shop.ikbenaanwezig.nl/tickets/event/an-evening-with-knives-resurrect-tom
URL:https://detanker.nl/evenement/love-for-loud-an-evening-with-knives-resurrect-tomorrow/
LOCATION:de Tanker in Noord\, Nw Leeuwarderweg 15\, Amsterdam
CATEGORIES:2025,aankomend event,concert,Cultuurvitrine,Diy,love4loud
ATTACH;FMTTYPE=image/png:https://detanker.nl/wp-content/uploads/2025/02/LFL_zwart_witterand.png
END:VEVENT
BEGIN:VEVENT
DTSTART;TZID=Europe/Amsterdam:20250413T200000
DTEND;TZID=Europe/Amsterdam:20250413T233000
DTSTAMP:20260424T223909
CREATED:20250319T102045Z
LAST-MODIFIED:20250319T194638Z
UID:13572-1744574400-1744587000@detanker.nl
SUMMARY:Love for Loud : Acid Mammoth
DESCRIPTION:Love for Loud \nAcid Mammoth – special set\nPsychedelic doom metal from Greece with an extra long set.\nOnly show in Nl\nDoors 20.15\nBand 20.45\n\nTickets online or at the door 14 euro:\nhttps://shop.ikbenaanwezig.nl/tickets/event/acid-mammoth-special-set-13-04-2025-wx6ru
URL:https://detanker.nl/evenement/love-for-loud-acid-mammoth/
LOCATION:de Tanker in Noord\, Nw Leeuwarderweg 15\, Amsterdam
CATEGORIES:2025,aankomend event,concert,Cultuurvitrine,Diy,love4loud
ATTACH;FMTTYPE=image/jpeg:https://detanker.nl/wp-content/uploads/2025/03/2C645BFF-33A1-4A6B-A7ED-D3E6C75FE666-scaled.jpeg
END:VEVENT
BEGIN:VEVENT
DTSTART;TZID=Europe/Amsterdam:20250418T080000
DTEND;TZID=Europe/Amsterdam:20250418T170000
DTSTAMP:20260424T223909
CREATED:20250319T115719Z
LAST-MODIFIED:20250319T115719Z
UID:13576-1744963200-1744995600@detanker.nl
SUMMARY:return of Cilice Orchestra
DESCRIPTION:Theo Holsheimer is a man with a penchant for maximum madness on stage .His band Cilice is notorious for stretching the boundaries of heavy music like silly putty a hard -hitting juggernaut that’s somehow also crazy nimble in its dazzling virtuosity.In de Tanker we will get a heavy version of the new incarnation of his band Cilice. \nTheo Holsteiner:gitaar\,sampler \nPhilip Moser: drums \nGijs Levelt:trompet \nJoao Driessen: Sax \nVinkepeezer:Electronics \n  \nRick&Rudie is a joint project from the minds of electRick and Rudie Kartel.Together they combine the weird quirky electronics off ElectRic with the off-kilter lyrical flow of Rudie\,being a good fit for each other to bring something new.The first album contains songs that range from hiphop to electronic indie. \nEvening starts at: 20:00 \nTickets regular 5Euro or more
URL:https://detanker.nl/evenement/return-of-cilice-orchestra/
LOCATION:de Tanker in Noord\, Nw Leeuwarderweg 15\, Amsterdam
CATEGORIES:2025,aankomend event,concert,Cultuurvitrine,Diy
ATTACH;FMTTYPE=image/jpeg:https://detanker.nl/wp-content/uploads/2025/03/WhatsApp-Image-2025-03-17-at-22.13.30.jpeg
END:VEVENT
BEGIN:VEVENT
DTSTART;TZID=Europe/Amsterdam:20250420T200000
DTEND;TZID=Europe/Amsterdam:20250420T230000
DTSTAMP:20260424T223909
CREATED:20250319T104042Z
LAST-MODIFIED:20250319T120044Z
UID:13574-1745179200-1745190000@detanker.nl
SUMMARY:Love for Loud :Cultura Tres - special show
DESCRIPTION:Love for Loud \nCultura Tres – special show\nextra long set\nonly Show in NL\n\nDoors 20.15\nBand 20.45\nTickets online or at the door 16\,50 euro.\n\nticketlink\nhttps://shop.ikbenaanwezig.nl/tickets/event/cultura-tres-special-show
URL:https://detanker.nl/evenement/love-for-loud-cultura-tres-special-show/
LOCATION:de Tanker in Noord\, Nw Leeuwarderweg 15\, Amsterdam
CATEGORIES:2025,aankomend event,concert,Cultuurvitrine,Diy,love4loud
ATTACH;FMTTYPE=image/jpeg:https://detanker.nl/wp-content/uploads/2025/03/image_123650291.jpg
END:VEVENT
BEGIN:VEVENT
DTSTART;TZID=Europe/Amsterdam:20250421T193000
DTEND;TZID=Europe/Amsterdam:20250421T230000
DTSTAMP:20260424T223909
CREATED:20250420T223840Z
LAST-MODIFIED:20250420T223908Z
UID:13638-1745263800-1745276400@detanker.nl
SUMMARY:All Strings Night
DESCRIPTION:An evening of improvisation with all kinds of strings \nDoors 19.30 \nStart 20.00 \nHosted by Raoul van der Weide
URL:https://detanker.nl/evenement/all-strings-night-3/
LOCATION:de Tanker in Noord\, Nw Leeuwarderweg 15\, Amsterdam
CATEGORIES:2025,concert,Cultuurvitrine,Improv
ATTACH;FMTTYPE=image/jpeg:https://detanker.nl/wp-content/uploads/2025/04/IMG_20240408_102247_099.jpg
END:VEVENT
END:VCALENDAR