BEGIN:VCALENDAR
VERSION:2.0
PRODID:-//Sams in de Tanker in Noord - ECPv6.15.18//NONSGML v1.0//EN
CALSCALE:GREGORIAN
METHOD:PUBLISH
X-ORIGINAL-URL:https://detanker.nl
X-WR-CALDESC:Evenementen voor Sams in de Tanker in Noord
REFRESH-INTERVAL;VALUE=DURATION:PT1H
X-Robots-Tag:noindex
X-PUBLISHED-TTL:PT1H
BEGIN:VTIMEZONE
TZID:Europe/Amsterdam
BEGIN:DAYLIGHT
TZOFFSETFROM:+0100
TZOFFSETTO:+0200
TZNAME:CEST
DTSTART:20250330T010000
END:DAYLIGHT
BEGIN:STANDARD
TZOFFSETFROM:+0200
TZOFFSETTO:+0100
TZNAME:CET
DTSTART:20251026T010000
END:STANDARD
BEGIN:DAYLIGHT
TZOFFSETFROM:+0100
TZOFFSETTO:+0200
TZNAME:CEST
DTSTART:20260329T010000
END:DAYLIGHT
BEGIN:STANDARD
TZOFFSETFROM:+0200
TZOFFSETTO:+0100
TZNAME:CET
DTSTART:20261025T010000
END:STANDARD
BEGIN:DAYLIGHT
TZOFFSETFROM:+0100
TZOFFSETTO:+0200
TZNAME:CEST
DTSTART:20270328T010000
END:DAYLIGHT
BEGIN:STANDARD
TZOFFSETFROM:+0200
TZOFFSETTO:+0100
TZNAME:CET
DTSTART:20271031T010000
END:STANDARD
END:VTIMEZONE
BEGIN:VEVENT
DTSTART;TZID=Europe/Amsterdam:20260322T200000
DTEND;TZID=Europe/Amsterdam:20260322T230000
DTSTAMP:20260422T075436
CREATED:20260222T122321Z
LAST-MODIFIED:20260222T122333Z
UID:14201-1774209600-1774220400@detanker.nl
SUMMARY:What the Cold Couldn't Keep
DESCRIPTION:What the Cold Couldn’t Keep \n\n\n\nmusic and dance real-time performance \n\n\n\n @De Tanker in Noord \, Nieuwe Leeuwarderweg 15\, 1022 BN  \n\n\n\nDoors 20:00\, start 20:30 Entrance sliding scale €8-15  \n\n\n\nThis event is part of a series of incidental events of music and dance real-time performances taking place at de Tanker in Noord\, curated by dancer Manuela Lucia Tessi. \n\n\n\nFor this beginning of Spring event\, she  gathers a group of long-time collaborators that she works with in different cities\, Berlin\, Amsterdam\, Cape Town. \n\n\n\nWith:  \n\n\n\nCoila-Leah Enderstein\, piano \n\n\n\nT. Veneranta\, movement  \n\n\n\nManuela Lucia Tessi\, movement  \n\n\n\nMaria Mavridou\, movement  \n\n\n\nJonathan Nagel\, double bass \n\n\n\nCamille Verhaak\, clarinet \n\n\n\nMaya Felixbrot\, viola
URL:https://detanker.nl/evenement/what-the-cold-couldnt-keep/
END:VEVENT
END:VCALENDAR