BEGIN:VCALENDAR
VERSION:2.0
PRODID:-//Sams in de Tanker in Noord - ECPv6.15.18//NONSGML v1.0//EN
CALSCALE:GREGORIAN
METHOD:PUBLISH
X-ORIGINAL-URL:https://detanker.nl
X-WR-CALDESC:Evenementen voor Sams in de Tanker in Noord
REFRESH-INTERVAL;VALUE=DURATION:PT1H
X-Robots-Tag:noindex
X-PUBLISHED-TTL:PT1H
BEGIN:VTIMEZONE
TZID:Europe/Amsterdam
BEGIN:DAYLIGHT
TZOFFSETFROM:+0100
TZOFFSETTO:+0200
TZNAME:CEST
DTSTART:20250330T010000
END:DAYLIGHT
BEGIN:STANDARD
TZOFFSETFROM:+0200
TZOFFSETTO:+0100
TZNAME:CET
DTSTART:20251026T010000
END:STANDARD
BEGIN:DAYLIGHT
TZOFFSETFROM:+0100
TZOFFSETTO:+0200
TZNAME:CEST
DTSTART:20260329T010000
END:DAYLIGHT
BEGIN:STANDARD
TZOFFSETFROM:+0200
TZOFFSETTO:+0100
TZNAME:CET
DTSTART:20261025T010000
END:STANDARD
BEGIN:DAYLIGHT
TZOFFSETFROM:+0100
TZOFFSETTO:+0200
TZNAME:CEST
DTSTART:20270328T010000
END:DAYLIGHT
BEGIN:STANDARD
TZOFFSETFROM:+0200
TZOFFSETTO:+0100
TZNAME:CET
DTSTART:20271031T010000
END:STANDARD
END:VTIMEZONE
BEGIN:VEVENT
DTSTART;TZID=Europe/Amsterdam:20260320T180000
DTEND;TZID=Europe/Amsterdam:20260320T233000
DTSTAMP:20260422T041328
CREATED:20260127T142431Z
LAST-MODIFIED:20260216T133203Z
UID:14112-1774029600-1774049400@detanker.nl
SUMMARY:GHOSTWOOD ENSEMBLE + STOIC
DESCRIPTION:Short Description/Bio: \n\n\n\nTwo-band DIY night at De Tanker with Ghostwood Ensemble and Stoic. \n\n\n\nGhostwood Ensemble is a bunch of humans looking for something human: the primordial cry\, a distant echo of it\, maybe a middle finger raised towards Heaven. Starting from punk\, they stretch into noise\, melody and raw emotional outbursts. \n\n\n\nhttps://ghostwoodensemble.bandcamp.com/album/ghostwood-ensemble \n\n\n\nStoic\, Amsterdam Noord dwellers\, contrast melodic landscapes with crushing distortion\, balancing atmosphere and weight into a heavy\, immersive sound. \n\n\n\nhttps://stoicamsterdam.bandcamp.com \n\n\n\nExpect an intense evening of distorted textures\, tension and release. \n\n\n\nTicket Price :Donation\, suggested €7~10 (door) \n\n\n\nDesign by Eva Poulopoulou @eva_pulu
URL:https://detanker.nl/evenement/ghostwood-ensemble-stoic/
END:VEVENT
END:VCALENDAR