BEGIN:VCALENDAR
VERSION:2.0
PRODID:-//Sams in de Tanker in Noord - ECPv6.15.18//NONSGML v1.0//EN
CALSCALE:GREGORIAN
METHOD:PUBLISH
X-ORIGINAL-URL:https://detanker.nl
X-WR-CALDESC:Evenementen voor Sams in de Tanker in Noord
REFRESH-INTERVAL;VALUE=DURATION:PT1H
X-Robots-Tag:noindex
X-PUBLISHED-TTL:PT1H
BEGIN:VTIMEZONE
TZID:Europe/Amsterdam
BEGIN:DAYLIGHT
TZOFFSETFROM:+0100
TZOFFSETTO:+0200
TZNAME:CEST
DTSTART:20250330T010000
END:DAYLIGHT
BEGIN:STANDARD
TZOFFSETFROM:+0200
TZOFFSETTO:+0100
TZNAME:CET
DTSTART:20251026T010000
END:STANDARD
BEGIN:DAYLIGHT
TZOFFSETFROM:+0100
TZOFFSETTO:+0200
TZNAME:CEST
DTSTART:20260329T010000
END:DAYLIGHT
BEGIN:STANDARD
TZOFFSETFROM:+0200
TZOFFSETTO:+0100
TZNAME:CET
DTSTART:20261025T010000
END:STANDARD
BEGIN:DAYLIGHT
TZOFFSETFROM:+0100
TZOFFSETTO:+0200
TZNAME:CEST
DTSTART:20270328T010000
END:DAYLIGHT
BEGIN:STANDARD
TZOFFSETFROM:+0200
TZOFFSETTO:+0100
TZNAME:CET
DTSTART:20271031T010000
END:STANDARD
END:VTIMEZONE
BEGIN:VEVENT
DTSTART;TZID=Europe/Amsterdam:20260303T200000
DTEND;TZID=Europe/Amsterdam:20260303T230000
DTSTAMP:20260422T011144
CREATED:20260216T133619Z
LAST-MODIFIED:20260216T133628Z
UID:14179-1772568000-1772578800@detanker.nl
SUMMARY:ELECTRIC CITIZEN / KILLER WIVES
DESCRIPTION:Electric Citizen:occult doom 70 s inspired psychedelic rock from the USA\, expect fuzzed out riffs\, haunted voices and wild steady rock rhythems.single:https://youtu.be/omGon5N233A?si=jVWpdtBoUxuxp-gV \n\n\n\nKILLER WIVES is an Italian Stoner doom duo based in Utrecht NL: high energy blend of rock\, doom and metal\, known for their intense loud live shows.single:https://youtu.be/Ue32ajLbw18?si=uQj_L_AjMErRt3LV \n\n\n\nTicketlink 3 mrt  \n\n\n\nhttps://shop.ikbenaanwezig.nl/tickets/event/electric-citizen-shell-catalyst-
URL:https://detanker.nl/evenement/electric-citizen-killer-wives/
END:VEVENT
END:VCALENDAR