BEGIN:VCALENDAR
VERSION:2.0
PRODID:-//Sams in de Tanker in Noord - ECPv6.15.18//NONSGML v1.0//EN
CALSCALE:GREGORIAN
METHOD:PUBLISH
X-ORIGINAL-URL:https://detanker.nl
X-WR-CALDESC:Evenementen voor Sams in de Tanker in Noord
REFRESH-INTERVAL;VALUE=DURATION:PT1H
X-Robots-Tag:noindex
X-PUBLISHED-TTL:PT1H
BEGIN:VTIMEZONE
TZID:Europe/Amsterdam
BEGIN:DAYLIGHT
TZOFFSETFROM:+0100
TZOFFSETTO:+0200
TZNAME:CEST
DTSTART:20240331T010000
END:DAYLIGHT
BEGIN:STANDARD
TZOFFSETFROM:+0200
TZOFFSETTO:+0100
TZNAME:CET
DTSTART:20241027T010000
END:STANDARD
BEGIN:DAYLIGHT
TZOFFSETFROM:+0100
TZOFFSETTO:+0200
TZNAME:CEST
DTSTART:20250330T010000
END:DAYLIGHT
BEGIN:STANDARD
TZOFFSETFROM:+0200
TZOFFSETTO:+0100
TZNAME:CET
DTSTART:20251026T010000
END:STANDARD
BEGIN:DAYLIGHT
TZOFFSETFROM:+0100
TZOFFSETTO:+0200
TZNAME:CEST
DTSTART:20260329T010000
END:DAYLIGHT
BEGIN:STANDARD
TZOFFSETFROM:+0200
TZOFFSETTO:+0100
TZNAME:CET
DTSTART:20261025T010000
END:STANDARD
END:VTIMEZONE
BEGIN:VEVENT
DTSTART;TZID=Europe/Amsterdam:20251219T200000
DTEND;TZID=Europe/Amsterdam:20251219T230000
DTSTAMP:20260422T212036
CREATED:20251213T165302Z
LAST-MODIFIED:20251213T165431Z
UID:14065-1766174400-1766185200@detanker.nl
SUMMARY:Moonshine Sound Collective : Winter Solstice
DESCRIPTION:Come and dance with us december 19. We’ll celebrate winter solstice with a musical rollercoaster ride to warm your bones\, move your feet and lift your spirits as high as possible before the year is over! Live music by HAN\, here and now\, who always delivers with his blend of catchy grooves & soulful lyrics in a unique collab with the Moonshine Sisters.Hip shaking global beats by DJ’s Laura Jayne & Socrates with live trumpet by Milan Mes. Treat yourself to this musical feast at de Tanker in Northern Amsterdam! \n\n\n\nhttps://hipsy.eu/shop/164946-moonshine-soundcollective-winter-solstice?utm_source=ig&utm_medium=social&utm_content=link_in_bio&fbclid=PAZXh0bgNhZW0CMTEAc3J0YwZhcHBfaWQMMjU2MjgxMDQwNTU4AAGnC3bWYODbfdjBQwQa9DJW5AXMDn5QcFJUkrcnQG3H81GiU_4t_5ybds73TZY_aem_7QjZyUZpwSUh5bdz4Zvetw \n\n\n\nWill you come dance with us Friday December 19th at our next club night in Amsterdam? \n\n\n\nAnd have we got a line up for you to end this year with a bang 💥! \n\n\n\nWe have special guest @hanhereandnow joining us\, collaborating with the @moonshine.sisters.music and playing solo. And of course our in house smooth global groove operators @dj.socrates\, @laura_._jayne and the icing on the cake @milantrompet \n\n\n\nDus een avond met twee live-bands en acts: \n\n\n\n-Han Here and Now \n\n\n\n-Moonshine Sisters \n\n\n\nen achter de draaitafels Socrates en Laura Jayne met live muzikant Milan Mes.
URL:https://detanker.nl/evenement/moonshine-sound-collective-winter-solstice/
END:VEVENT
END:VCALENDAR